BEGIN:VCALENDAR
VERSION:2.0
PRODID:-//St. Joseph Roman Catholic Church - ECPv6.15.20//NONSGML v1.0//EN
CALSCALE:GREGORIAN
METHOD:PUBLISH
X-WR-CALNAME:St. Joseph Roman Catholic Church
X-ORIGINAL-URL:https://www.saintjoseph.ca
X-WR-CALDESC:Events for St. Joseph Roman Catholic Church
REFRESH-INTERVAL;VALUE=DURATION:PT1H
X-Robots-Tag:noindex
X-PUBLISHED-TTL:PT1H
BEGIN:VTIMEZONE
TZID:America/Edmonton
BEGIN:DAYLIGHT
TZOFFSETFROM:-0700
TZOFFSETTO:-0600
TZNAME:MDT
DTSTART:20250309T090000
END:DAYLIGHT
BEGIN:STANDARD
TZOFFSETFROM:-0600
TZOFFSETTO:-0700
TZNAME:MST
DTSTART:20251102T080000
END:STANDARD
BEGIN:DAYLIGHT
TZOFFSETFROM:-0700
TZOFFSETTO:-0600
TZNAME:MDT
DTSTART:20260308T090000
END:DAYLIGHT
BEGIN:STANDARD
TZOFFSETFROM:-0600
TZOFFSETTO:-0700
TZNAME:MST
DTSTART:20261101T080000
END:STANDARD
BEGIN:DAYLIGHT
TZOFFSETFROM:-0700
TZOFFSETTO:-0600
TZNAME:MDT
DTSTART:20270314T090000
END:DAYLIGHT
BEGIN:STANDARD
TZOFFSETFROM:-0600
TZOFFSETTO:-0700
TZNAME:MST
DTSTART:20271107T080000
END:STANDARD
END:VTIMEZONE
BEGIN:VEVENT
DTSTART;TZID=America/Edmonton:20260422T093000
DTEND;TZID=America/Edmonton:20260422T110000
DTSTAMP:20260422T054634
CREATED:20251010T201454Z
LAST-MODIFIED:20251209T215522Z
UID:10001267-1776850200-1776855600@www.saintjoseph.ca
SUMMARY:Ladies' Bible Study
DESCRIPTION:We gather ever Wednesday morning upstairs in the St. John Paul II Room from 9:30am- 11am. All ladies welcome (including newcomers)! \n 
URL:https://www.saintjoseph.ca/event/ladies-bible-study-3/2026-04-22/
LOCATION:St. John Paul II Room\, 10404- 102 Street\, Grande Prairie\, Alberta\, T8V2W3\, Canada
CATEGORIES:Parish
ATTACH;FMTTYPE=image/png:https://www.saintjoseph.ca/wp-content/uploads/2023/10/Bible-Study-1.png
END:VEVENT
BEGIN:VEVENT
DTSTART;TZID=America/Edmonton:20260422T190000
DTEND;TZID=America/Edmonton:20260422T200000
DTSTAMP:20260422T054634
CREATED:20251008T212858Z
LAST-MODIFIED:20251209T215306Z
UID:10001150-1776884400-1776888000@www.saintjoseph.ca
SUMMARY:OCIA (Order of Christian Initiation)
DESCRIPTION:Are you interested in learning more about the Catholic faith or thinking about becoming Catholic? The Order of Christian Initiation of Adults (OCIA) is a journey of faith\, reflection\, and discovery. Each week\, we gather to explore the teachings of the Church\, deepen our relationship with Christ\, and share in community. \nWhether you’re new to Christianity\, coming from another faith tradition\, or simply seeking to grow in your understanding\, you are warmly invited to join us.
URL:https://www.saintjoseph.ca/event/ocia-order-of-christian-initiation/2026-04-22/
LOCATION:St. John Paul II Room\, 10404- 102 Street\, Grande Prairie\, Alberta\, T8V2W3\, Canada
CATEGORIES:OCIA
ATTACH;FMTTYPE=image/jpeg:https://www.saintjoseph.ca/wp-content/uploads/2023/09/Easter-Vigil-Baptism-e1695740102931.jpg
END:VEVENT
END:VCALENDAR